BEGIN:VCALENDAR
VERSION:2.0
PRODID:-//Michigan Justice Advocacy - ECPv6.15.20//NONSGML v1.0//EN
CALSCALE:GREGORIAN
METHOD:PUBLISH
X-ORIGINAL-URL:https://mijustice.org
X-WR-CALDESC:Events for Michigan Justice Advocacy
REFRESH-INTERVAL;VALUE=DURATION:PT1H
X-Robots-Tag:noindex
X-PUBLISHED-TTL:PT1H
BEGIN:VTIMEZONE
TZID:America/Detroit
BEGIN:DAYLIGHT
TZOFFSETFROM:-0500
TZOFFSETTO:-0400
TZNAME:EDT
DTSTART:20200308T070000
END:DAYLIGHT
BEGIN:STANDARD
TZOFFSETFROM:-0400
TZOFFSETTO:-0500
TZNAME:EST
DTSTART:20201101T060000
END:STANDARD
BEGIN:DAYLIGHT
TZOFFSETFROM:-0500
TZOFFSETTO:-0400
TZNAME:EDT
DTSTART:20210314T070000
END:DAYLIGHT
BEGIN:STANDARD
TZOFFSETFROM:-0400
TZOFFSETTO:-0500
TZNAME:EST
DTSTART:20211107T060000
END:STANDARD
BEGIN:DAYLIGHT
TZOFFSETFROM:-0500
TZOFFSETTO:-0400
TZNAME:EDT
DTSTART:20220313T070000
END:DAYLIGHT
BEGIN:STANDARD
TZOFFSETFROM:-0400
TZOFFSETTO:-0500
TZNAME:EST
DTSTART:20221106T060000
END:STANDARD
END:VTIMEZONE
BEGIN:VTIMEZONE
TZID:UTC
BEGIN:STANDARD
TZOFFSETFROM:+0000
TZOFFSETTO:+0000
TZNAME:UTC
DTSTART:20200101T000000
END:STANDARD
END:VTIMEZONE
BEGIN:VEVENT
DTSTART;TZID=America/Detroit:20210127T193000
DTEND;TZID=America/Detroit:20210127T201500
DTSTAMP:20260423T162832
CREATED:20210117T172708Z
LAST-MODIFIED:20210117T173007Z
UID:3663-1611775800-1611778500@mijustice.org
SUMMARY:Community Committee Meeting
DESCRIPTION:
URL:https://mijustice.org/event/community-committee-meeting/
CATEGORIES:Community Committee
END:VEVENT
BEGIN:VEVENT
DTSTART;TZID=America/Detroit:20210125T191500
DTEND;TZID=America/Detroit:20210125T200000
DTSTAMP:20260423T162832
CREATED:20210117T172526Z
LAST-MODIFIED:20210117T172526Z
UID:3661-1611602100-1611604800@mijustice.org
SUMMARY:Criminal Justice Organizations
DESCRIPTION:
URL:https://mijustice.org/event/criminal-justice-organizations/
CATEGORIES:Criminal Justice Orgs
END:VEVENT
BEGIN:VEVENT
DTSTART;TZID=UTC:20210123T123000
DTEND;TZID=UTC:20210123T131500
DTSTAMP:20260423T162832
CREATED:20210117T164729Z
LAST-MODIFIED:20210117T164729Z
UID:3657-1611405000-1611407700@mijustice.org
SUMMARY:Media Committee Meeting
DESCRIPTION:
URL:https://mijustice.org/event/media-committee-meeting/
CATEGORIES:Media Committee
END:VEVENT
BEGIN:VEVENT
DTSTART;TZID=America/Detroit:20210120T193000
DTEND;TZID=America/Detroit:20210120T201500
DTSTAMP:20260423T162832
CREATED:20210117T164613Z
LAST-MODIFIED:20210117T164613Z
UID:3655-1611171000-1611173700@mijustice.org
SUMMARY:Religious Committee Meeting
DESCRIPTION:
URL:https://mijustice.org/event/religious-committee-meeting/
CATEGORIES:Committee Meeting,Religious Organizations
END:VEVENT
BEGIN:VEVENT
DTSTART;TZID=America/Detroit:20210118T191500
DTEND;TZID=America/Detroit:20210118T200000
DTSTAMP:20260423T162832
CREATED:20210117T161831Z
LAST-MODIFIED:20210117T161831Z
UID:3650-1610997300-1611000000@mijustice.org
SUMMARY:Research & Legislative Committee Meeting
DESCRIPTION:
URL:https://mijustice.org/event/research-legislative-committee-meeting/
CATEGORIES:Committee Meeting,Research Committee
END:VEVENT
END:VCALENDAR