BEGIN:VCALENDAR
VERSION:2.0
PRODID:-//Michigan Justice Advocacy - ECPv6.15.20//NONSGML v1.0//EN
CALSCALE:GREGORIAN
METHOD:PUBLISH
X-WR-CALNAME:Michigan Justice Advocacy
X-ORIGINAL-URL:https://mijustice.org
X-WR-CALDESC:Events for Michigan Justice Advocacy
REFRESH-INTERVAL;VALUE=DURATION:PT1H
X-Robots-Tag:noindex
X-PUBLISHED-TTL:PT1H
BEGIN:VTIMEZONE
TZID:America/Detroit
BEGIN:DAYLIGHT
TZOFFSETFROM:-0500
TZOFFSETTO:-0400
TZNAME:EDT
DTSTART:20200308T070000
END:DAYLIGHT
BEGIN:STANDARD
TZOFFSETFROM:-0400
TZOFFSETTO:-0500
TZNAME:EST
DTSTART:20201101T060000
END:STANDARD
BEGIN:DAYLIGHT
TZOFFSETFROM:-0500
TZOFFSETTO:-0400
TZNAME:EDT
DTSTART:20210314T070000
END:DAYLIGHT
BEGIN:STANDARD
TZOFFSETFROM:-0400
TZOFFSETTO:-0500
TZNAME:EST
DTSTART:20211107T060000
END:STANDARD
BEGIN:DAYLIGHT
TZOFFSETFROM:-0500
TZOFFSETTO:-0400
TZNAME:EDT
DTSTART:20220313T070000
END:DAYLIGHT
BEGIN:STANDARD
TZOFFSETFROM:-0400
TZOFFSETTO:-0500
TZNAME:EST
DTSTART:20221106T060000
END:STANDARD
END:VTIMEZONE
BEGIN:VEVENT
DTSTART;TZID=America/Detroit:20210126T180000
DTEND;TZID=America/Detroit:20210126T190000
DTSTAMP:20260423T150610
CREATED:20210117T164857Z
LAST-MODIFIED:20210117T164857Z
UID:3659-1611684000-1611687600@mijustice.org
SUMMARY:Q & A Intro to Michigan Justice Advocacy
DESCRIPTION:
URL:https://mijustice.org/event/q-a-intro-to-michigan-justice-advocacy/
CATEGORIES:Q & A Intro Meeting
END:VEVENT
END:VCALENDAR